BEGIN:VCALENDAR
VERSION:2.0
PRODID:-//wp-events-plugin.com//5.99912//EN
TZID:Europe/Berlin
X-WR-TIMEZONE:Europe/Berlin
BEGIN:VEVENT
UID:0-676@geislingensteige.albverein.eu
DTSTART;TZID=Europe/Berlin:20260718T000000
DTEND;TZID=Europe/Berlin:20260719T000000
DTSTAMP:20251225T100518Z
URL:https://geislingensteige.albverein.eu/events/60-jahre-oedenturmdienst/
SUMMARY:60 Jahre Ödenturmdienst
DESCRIPTION:\n\n\nDer Schwäbische Albverein feiert ein ganz besonderes Jub
 iläum: Seit nunmehr 60 Jahren sorgt der Verein dafür\, dass die Öffnung
 szeiten des Geislinger Wahrzeichens stets zuverlässig betreut werden. Ein
  Grund zum Feiern – und das möchten wir mit Ihnen gemeinsam tun!\nZu di
 esem Anlass laden wir alle Geislinger Bürger\, Wanderer\, Familien und Fr
 eunde der Region zu einem unvergesslichen Festwochenende ein. Vom 18.07.20
 26 bis 19.07.2026 erwarten Sie zahlreiche Programmpunkte.\n\nNoch wird an 
 den Details gefeilt. Aber merken Sie sich diesen Termin schon einmal vor.\
 n\nSeien Sie dabei\, wenn wir 60 Jahre engagierte Arbeit und Leidenschaft 
 für das Wahrzeichen Geislingens feiern.\n\nWir freuen uns auf zahlreiche 
 Besucher\, die dieses Jubiläum mit uns feiern wollen!\n\n\n
END:VEVENT
BEGIN:VTIMEZONE
TZID:Europe/Berlin
X-LIC-LOCATION:Europe/Berlin
BEGIN:DAYLIGHT
DTSTART:20260329T030000
TZOFFSETFROM:+0100
TZOFFSETTO:+0200
TZNAME:CEST
END:DAYLIGHT
END:VTIMEZONE
END:VCALENDAR