BEGIN:VCALENDAR
VERSION:2.0
PRODID:-//wp-events-plugin.com//5.99912//EN
TZID:Europe/Berlin
X-WR-TIMEZONE:Europe/Berlin
BEGIN:VEVENT
UID:0-606@geislingensteige.albverein.eu
DTSTART;TZID=Europe/Berlin:20261016T193000
DTEND;TZID=Europe/Berlin:20261016T213000
DTSTAMP:20251116T091308Z
URL:https://geislingensteige.albverein.eu/events/die-bnan-kuhbergwiese-hot
 spot-der-biodiversitaet-im-christental/
SUMMARY:Die BNAN-Kuhbergwiese - Hotspot der Biodiversität im Christental
DESCRIPTION:Markus Bernath und Michael Nowak von der Bezirksgruppe Geisling
 en des BNAN nehmen uns in ihrem Bildvortrag über die vereinseigene Wiese 
 im Christental bei Nenningen mit.\n\nEintritt frei.\n\nBitte die Parkplät
 ze der DEHOGA-Akademie nutzen.\n\nDie Feuerwehrparkplätze sind frei zu ha
 lten!\n\n&nbsp\;
LOCATION:Feuerwehrgerätehaus Bad Überkingen\, Hausener Straße 15\, Bad 
 Überkingen\, 73337\, Deutschland
GEO:48.599057;9.792754
X-APPLE-STRUCTURED-LOCATION;VALUE=URI;X-ADDRESS=Hausener Straße 15\, Bad 
 Überkingen\, 73337\, Deutschland;X-APPLE-RADIUS=100;X-TITLE=Feuerwehrger
 ätehaus Bad Überkingen:geo:48.599057,9.792754
END:VEVENT
BEGIN:VTIMEZONE
TZID:Europe/Berlin
X-LIC-LOCATION:Europe/Berlin
BEGIN:DAYLIGHT
DTSTART:20260329T030000
TZOFFSETFROM:+0100
TZOFFSETTO:+0200
TZNAME:CEST
END:DAYLIGHT
END:VTIMEZONE
END:VCALENDAR