BEGIN:VCALENDAR
VERSION:2.0
PRODID:-//wp-events-plugin.com//5.99912//EN
TZID:Europe/Berlin
X-WR-TIMEZONE:Europe/Berlin
BEGIN:VEVENT
UID:0-666@geislingensteige.albverein.eu
DTSTART;TZID=Europe/Berlin:20260426T090000
DTEND;TZID=Europe/Berlin:20260426T190000
DTSTAMP:20260329T044533Z
URL:https://geislingensteige.albverein.eu/events/durch-das-langenauer-ried
 /
SUMMARY:Durch das Langenauer Ried
DESCRIPTION:\n\n\nTreffpunkt\n09:00 Uhr Bahnhof Geislingen \n\n09:19 Uhr na
 ch Ulm\n\n10.02 Uhr weiter nach Langenau\n\n10.11 Uhr Ankunft in Langenau 
 \n\n\nProgramm \n\n \n\n \n\n \nAb dem Bahnhof wandern wir entlang der 
 Bahnlinie und durch Felder zur Sixenmühle\, wo wir eine ausgiebige Rast e
 inlegen. Bitte Vesper und Getränke mitnehmen\, es gibt keine Einkehrmögl
 ichkeiten unterwegs.\n\nDann entlang der Jungviehweide zum Grimmensee und 
 über die Ostermühle mit kleiner Stadtrunde zum Ristorante/Pizzeria Amalf
 i zur abschließenden Einkehr.\n\n\nRückfahrt\n\n \n18.05 Uhr ab Bahnhof
  Langenau\, Ankunft in Geislingen gegen 19 Uhr\n\n\nWanderstrecke\nCa. 14 
 km\, OHNE Steigungen\n\nGehzeit ca. 3\,5 Stunden\n\n\nAnmeldung\nBis spät
 estens Freitag\, 24. April 2026\, 18.00 Uhr bei \n\nChrista Siehler\, Tel.
  07331-69733\n\n*Mit Angabe D-Ticket oder Fahrkarte*\n\n\nFührung\nChrist
 a Siehler\, Uschi Domscha\n\n\n\nAushang20260426
END:VEVENT
BEGIN:VTIMEZONE
TZID:Europe/Berlin
X-LIC-LOCATION:Europe/Berlin
BEGIN:DAYLIGHT
DTSTART:20260329T030000
TZOFFSETFROM:+0100
TZOFFSETTO:+0200
TZNAME:CEST
END:DAYLIGHT
END:VTIMEZONE
END:VCALENDAR