BEGIN:VCALENDAR
VERSION:2.0
PRODID:-//wp-events-plugin.com//5.99912//EN
TZID:Europe/Berlin
X-WR-TIMEZONE:Europe/Berlin
BEGIN:VEVENT
UID:0-610@geislingensteige.albverein.eu
DTSTART;TZID=Europe/Berlin:20260516T133000
DTEND;TZID=Europe/Berlin:20260516T170000
DTSTAMP:20251116T093005Z
URL:https://geislingensteige.albverein.eu/events/exkursion-ueber-die-wacho
 lderheide-im-duerrental-bnan/
SUMMARY:Exkursion über die Wacholderheide im Dürrental (BNAN)
DESCRIPTION:Die Bezirksgruppe des BNAN (Bund Naturschutz Alb-Neckar e. V.) 
 läd ein zur naturkundlichen Exkursion. Schwerpunkt ist hier nicht die zur
 ückgelegte Strecke sondern die Besonderheiten unserer heimischen Flora un
 d Fauna.\n\nWeglänge ca. 5 Kilometer auf geschottertem Forstweg\, Pfad\, 
 Wegspur\, ca. 150 Höhenmeter Auf- und Abstieg (erster Aufstieg bis zum Pa
 noramaweg ist sehr steil!\, aber machbar – alte Steige zur Nordalb)\n\nT
 reffpunkt: 13:30 Uhr Parkplatz Berufsschulzentrum Rheinlandstr.\, Geisling
 en\,\n                    14:00 Uhr Parkplatz Emil-Herbst-Str. /
  Königstr.\, Deggingen \n\nDie Bildung von Fahrgemeinschaften ist gewün
 scht. Rücksprache bei M. Kückenwaitz (Tel.: 07331/6 59 42)
END:VEVENT
BEGIN:VTIMEZONE
TZID:Europe/Berlin
X-LIC-LOCATION:Europe/Berlin
BEGIN:DAYLIGHT
DTSTART:20260329T030000
TZOFFSETFROM:+0100
TZOFFSETTO:+0200
TZNAME:CEST
END:DAYLIGHT
END:VTIMEZONE
END:VCALENDAR