BEGIN:VCALENDAR
VERSION:2.0
PRODID:-//wp-events-plugin.com//5.99912//EN
TZID:Europe/Berlin
X-WR-TIMEZONE:Europe/Berlin
BEGIN:VEVENT
UID:0-685@geislingensteige.albverein.eu
DTSTART;TZID=Europe/Berlin:20261011T000000
DTEND;TZID=Europe/Berlin:20261011T000000
DTSTAMP:20251225T102043Z
URL:https://geislingensteige.albverein.eu/events/filsgauwanderung-zum-wass
 er-in-adelberg/
SUMMARY:Filsgauwanderung „Zum Wasser“ in Adelberg
DESCRIPTION:Organisation: OG Adelberg\n\nhttps://fils-gau.albverein.eu/even
 ts/gemeinsame-wanderung-im-filsgau-zum-wasser-in-und-um-adelberg/
END:VEVENT
BEGIN:VTIMEZONE
TZID:Europe/Berlin
X-LIC-LOCATION:Europe/Berlin
BEGIN:DAYLIGHT
DTSTART:20260329T030000
TZOFFSETFROM:+0100
TZOFFSETTO:+0200
TZNAME:CEST
END:DAYLIGHT
END:VTIMEZONE
END:VCALENDAR