BEGIN:VCALENDAR
VERSION:2.0
PRODID:-//wp-events-plugin.com//5.99912//EN
TZID:Europe/Berlin
X-WR-TIMEZONE:Europe/Berlin
BEGIN:VEVENT
UID:0-672@geislingensteige.albverein.eu
DTSTART;TZID=Europe/Berlin:20260614T000000
DTEND;TZID=Europe/Berlin:20260614T000000
DTSTAMP:20251225T095919Z
URL:https://geislingensteige.albverein.eu/events/hauptversammlung-des-schw
 aebischen-albvereins-in-sigmaringendorf/
SUMMARY:Hauptversammlung des Schwäbischen Albvereins in Sigmaringendorf
DESCRIPTION:Die jährliche Mitgliederversammlung des Hauptvereins findet di
 eses Jahr mit Rahmenprogramm in Sigmaringendorf statt.\n\nhttps://albverei
 n.net/termine/hauptversammlung-4/
LOCATION:Donau Lauchert Halle\, Laucertbühl 9\, Sigmaringendorf\, Deutschl
 and
GEO:48.067936;9.261782
X-APPLE-STRUCTURED-LOCATION;VALUE=URI;X-ADDRESS=Laucertbühl 9\, Sigmaringe
 ndorf\, Deutschland;X-APPLE-RADIUS=100;X-TITLE=Donau Lauchert Halle:geo:48
 .067936,9.261782
END:VEVENT
BEGIN:VTIMEZONE
TZID:Europe/Berlin
X-LIC-LOCATION:Europe/Berlin
BEGIN:DAYLIGHT
DTSTART:20260329T030000
TZOFFSETFROM:+0100
TZOFFSETTO:+0200
TZNAME:CEST
END:DAYLIGHT
END:VTIMEZONE
END:VCALENDAR