BEGIN:VCALENDAR
VERSION:2.0
PRODID:-//wp-events-plugin.com//5.99912//EN
TZID:Europe/Berlin
X-WR-TIMEZONE:Europe/Berlin
BEGIN:VEVENT
UID:0-668@geislingensteige.albverein.eu
DTSTART;TZID=Europe/Berlin:20260517T000000
DTEND;TZID=Europe/Berlin:20260517T000000
DTSTAMP:20251225T094840Z
URL:https://geislingensteige.albverein.eu/events/mit-der-schwaebischen-alb
 bahn-nach-muensingen-und-wanderung-im-biospaehrengebiet/
SUMMARY:Mit der Schwäbischen Albbahn nach Münsingen und Wanderung im Bios
 pährengebiet
DESCRIPTION:Details werden ca. 1-2 Wochen im Vorfeld hier bekannt gegeben.
END:VEVENT
BEGIN:VTIMEZONE
TZID:Europe/Berlin
X-LIC-LOCATION:Europe/Berlin
BEGIN:DAYLIGHT
DTSTART:20260329T030000
TZOFFSETFROM:+0100
TZOFFSETTO:+0200
TZNAME:CEST
END:DAYLIGHT
END:VTIMEZONE
END:VCALENDAR