BEGIN:VCALENDAR
VERSION:2.0
PRODID:-//wp-events-plugin.com//5.99912//EN
TZID:Europe/Berlin
X-WR-TIMEZONE:Europe/Berlin
BEGIN:VEVENT
UID:0-607@geislingensteige.albverein.eu
DTSTART;TZID=Europe/Berlin:20261113T000000
DTEND;TZID=Europe/Berlin:20261113T000000
DTSTAMP:20251116T091732Z
URL:https://geislingensteige.albverein.eu/events/naturschoenheiten-schwaeb
 ische-alb-flora-fauna-streuobstwiesen-und-landschaften/
SUMMARY:Naturschönheiten Schwäbische Alb: Flora\, Fauna\, Streuobstwiesen
  und Landschaften
DESCRIPTION:Bildvortrag von Bernahrd Etspüler\, Neufen.\n\nEintritt frei.\
 n\nBitte die Parkplätze der DEHOGA-Akademie nutzen.\n\nDie Feuerwehrparkp
 lätze sind frei zu halten!
LOCATION:Feuerwehrgerätehaus Bad Überkingen\, Hausener Straße 15\, Bad 
 Überkingen\, 73337\, Deutschland
GEO:48.599057;9.792754
X-APPLE-STRUCTURED-LOCATION;VALUE=URI;X-ADDRESS=Hausener Straße 15\, Bad 
 Überkingen\, 73337\, Deutschland;X-APPLE-RADIUS=100;X-TITLE=Feuerwehrger
 ätehaus Bad Überkingen:geo:48.599057,9.792754
END:VEVENT
BEGIN:VTIMEZONE
TZID:Europe/Berlin
X-LIC-LOCATION:Europe/Berlin
BEGIN:STANDARD
DTSTART:20261025T020000
TZOFFSETFROM:+0200
TZOFFSETTO:+0100
TZNAME:CET
END:STANDARD
END:VTIMEZONE
END:VCALENDAR