BEGIN:VCALENDAR
VERSION:2.0
PRODID:-//wp-events-plugin.com//5.99912//EN
TZID:Europe/Berlin
X-WR-TIMEZONE:Europe/Berlin
BEGIN:VEVENT
UID:0-627@geislingensteige.albverein.eu
DTSTART;TZID=Europe/Berlin:20261209T140000
DTEND;TZID=Europe/Berlin:20261209T160000
DTSTAMP:20251225T090131Z
URL:https://geislingensteige.albverein.eu/events/seniorenwanderung-mit-der
 -og-eybach-3-2026-12-09/
SUMMARY:Seniorenwanderung mit der OG Eybach
DESCRIPTION:Der Albverein Ortsgruppe Eybach bietet monatliche Halbtageswand
 erungen\, jeweils am zweiten Mittwoch des Monats an. Die Wanderzeiten sind
  ca. 2 bis 2 ½ Std.\nUnser Ziel ist bis ins hohe Alter die Natur unserer 
 schönen Heimat zu erleben\, miteinander Reden und den Körper fit zu halt
 en.\nDie Wanderungen finden mit wechselnder Führung statt und werden im G
 eislinger Stadtinfo bzw. am Montag vor der Wanderung in der Tageszeitung a
 ngekündigt und beschrieben.\n\nNach den Wanderungen kehrt die Gruppe rege
 lmäßig ein\, um den Tag ausklingen zu lassen.\n\nGäste sind immer herzl
 ich willkommen.\n\nTreffpunkt ist – sofern nicht anders in der Tagespres
 se mitgeteilt - am Lammplatz in Geislingen-Eybach.
END:VEVENT
BEGIN:VTIMEZONE
TZID:Europe/Berlin
X-LIC-LOCATION:Europe/Berlin
BEGIN:STANDARD
DTSTART:20261025T020000
TZOFFSETFROM:+0200
TZOFFSETTO:+0100
TZNAME:CET
END:STANDARD
END:VTIMEZONE
END:VCALENDAR