BEGIN:VCALENDAR
VERSION:2.0
PRODID:-//wp-events-plugin.com//5.99912//EN
TZID:Europe/Berlin
X-WR-TIMEZONE:Europe/Berlin
BEGIN:VEVENT
UID:0-612@geislingensteige.albverein.eu
DTSTART;TZID=Europe/Berlin:20260905T133000
DTEND;TZID=Europe/Berlin:20260905T163000
DTSTAMP:20251116T093824Z
URL:https://geislingensteige.albverein.eu/events/spaetsommerspaziergang-be
 i-ave-maria-bnan/
SUMMARY:Spätsommerspaziergang bei Ave Maria (BNAN)
DESCRIPTION:Die Bezirksgruppe des BNAN (Bund Naturschutz Alb-Neckar e. V.) 
 läd ein zur naturkundlichen Exkursion. Schwerpunkt ist hier nicht die zur
 ückgelegte Strecke sondern die Besonderheiten unserer heimischen Flora un
 d Fauna.\n\nWir besuchen die unterschiedlichen Lebensräume Streuobstwiese
 n\, Quellaustritte und Wacholderheiden.\n\n\n\nTreffpunkt:\n13:30 Uhr Park
 platz Berufsschulzentrum Rheinlandstr.\, Geislingen\,\n\n\n\n14:00 Uhr Par
 kplatz am Beginn des Kreuzweges\, Ave-Maria-Weg\, Deggingen\n\n\n\nWeglän
 ge ca. 3 Kilometer auf geschottertem Wirtschaftsweg\, Wanderweg\, geteerte
 m Weg\, ca. 110 Höhenmeter Auf- und Abstieg\n\nDie Bildung von Fahrgemein
 schaften ist gewünscht. Rücksprache bei M. Kückenwaitz (Tel.: 07331/6 5
 9 42)
END:VEVENT
BEGIN:VTIMEZONE
TZID:Europe/Berlin
X-LIC-LOCATION:Europe/Berlin
BEGIN:DAYLIGHT
DTSTART:20260329T030000
TZOFFSETFROM:+0100
TZOFFSETTO:+0200
TZNAME:CEST
END:DAYLIGHT
END:VTIMEZONE
END:VCALENDAR