BEGIN:VCALENDAR
VERSION:2.0
PRODID:-//wp-events-plugin.com//5.99912//EN
TZID:Europe/Berlin
X-WR-TIMEZONE:Europe/Berlin
BEGIN:VEVENT
UID:0-638@geislingensteige.albverein.eu
DTSTART;TZID=Europe/Berlin:20260916T150000
DTEND;TZID=Europe/Berlin:20260916T170000
DTSTAMP:20251225T091245Z
URL:https://geislingensteige.albverein.eu/events/stammtisch-5-2026-09-16/
SUMMARY:Stammtisch
DESCRIPTION:Jeden dritten Mittwoch im Monat treffen wir uns zum Stammtisch 
 in der Ziegelhütte bei Amstetten. In den Sommermonaten treffen wir uns um
  15.00 Uhr.\n\nGerne dürfen sich Vereinsmitglieder aus anderen Ortsgruppe
 n anschließen.
LOCATION:Ziegelhütte\, Ziegelhütte 1\, Amstetten\, 73340\, Deutschland
GEO:48.588035;9.867079
X-APPLE-STRUCTURED-LOCATION;VALUE=URI;X-ADDRESS=Ziegelhütte 1\, Amstetten\
 , 73340\, Deutschland;X-APPLE-RADIUS=100;X-TITLE=Ziegelhütte:geo:48.58803
 5,9.867079
END:VEVENT
BEGIN:VTIMEZONE
TZID:Europe/Berlin
X-LIC-LOCATION:Europe/Berlin
BEGIN:DAYLIGHT
DTSTART:20260329T030000
TZOFFSETFROM:+0100
TZOFFSETTO:+0200
TZNAME:CEST
END:DAYLIGHT
END:VTIMEZONE
END:VCALENDAR