BEGIN:VCALENDAR
VERSION:2.0
PRODID:-//wp-events-plugin.com//5.99912//EN
TZID:Europe/Berlin
X-WR-TIMEZONE:Europe/Berlin
BEGIN:VEVENT
UID:0-640@geislingensteige.albverein.eu
DTSTART;TZID=Europe/Berlin:20261021T140000
DTEND;TZID=Europe/Berlin:20261021T160000
DTSTAMP:20251225T091457Z
URL:https://geislingensteige.albverein.eu/events/stammtisch-6-2026-10-21/
SUMMARY:Stammtisch
DESCRIPTION:Jeden dritten Mittwoch im Monat treffen wir uns zum Stammtisch 
 in der Ziegelhütte bei Amstetten. Die älteren Teilnehmer möchten gerne 
 noch bei Tageslicht zuhause sein\, deshalb beginnen wir in den Wintermonat
 en schon um 14:00 Uhr.\n\nGerne dürfen sich Vereinsmitglieder aus anderen
  Ortsgruppen anschließen.
LOCATION:Ziegelhütte\, Ziegelhütte 1\, Amstetten\, 73340\, Deutschland
GEO:48.588035;9.867079
X-APPLE-STRUCTURED-LOCATION;VALUE=URI;X-ADDRESS=Ziegelhütte 1\, Amstetten\
 , 73340\, Deutschland;X-APPLE-RADIUS=100;X-TITLE=Ziegelhütte:geo:48.58803
 5,9.867079
END:VEVENT
BEGIN:VTIMEZONE
TZID:Europe/Berlin
X-LIC-LOCATION:Europe/Berlin
BEGIN:DAYLIGHT
DTSTART:20260329T030000
TZOFFSETFROM:+0100
TZOFFSETTO:+0200
TZNAME:CEST
END:DAYLIGHT
END:VTIMEZONE
END:VCALENDAR