BEGIN:VCALENDAR
VERSION:2.0
PRODID:-//wp-events-plugin.com//5.99912//EN
TZID:Europe/Berlin
X-WR-TIMEZONE:Europe/Berlin
BEGIN:VEVENT
UID:0-667@geislingensteige.albverein.eu
DTSTART;TZID=Europe/Berlin:20260430T084500
DTEND;TZID=Europe/Berlin:20260430T140000
DTSTAMP:20260412T105416Z
URL:https://geislingensteige.albverein.eu/events/staudamm-runde-boehmenkir
 ch-eseltal/
SUMMARY:Staudamm-Runde Böhmenkirch-Eseltal
DESCRIPTION:\n\n\nTreffpunkt\n08.45 Uhr TVA-Parkplatz mit Privat PKW\, Weit
 erfahrt zum WPP nahe Schützenhaus Böhmenkirch\n\n\nWanderung \nVorbei am
  Schützenhaus wandern wir zum Staudamm Eseltal. Weiter geht es durch das 
 NSG Kutschenberg und den Stürzelberg mit kurzen\, leichten Anstiegen.\n\n
 Durch das Ulmer Tal geht es über den Roten Bildstock zurück zum Ausgangs
 punkt.\n\nGetränke und ggf. Rucksackvesper mitbringen.\n\n\nStrecke\n8\,6
 5 km\, Höhenunterschied 150 m\n\nGehzeit ca. 2 1/4 Std. Wege Asphalt\, Fe
 ld- und Waldwege\n\nStöcke nicht unbedingt erforderlich\n\n\nEinkehr \nCa
 . 12.15 Uhr Pizzeria San Marco\, Jahnstr. 8\, 89558 Böhmenkirch\n\n\n \n
 \n\n\nAnmeldung\nBis spätestens Dienstag 18.00 Uhr bei\n\nChristine Vater
  unter Tel.: 01590 4432692\n\n\nFührung\nChristine Vater\, Gudrun Hof\n\n
 \nFahrtkosten\n3\,50 € pro Mitfahrer\n\n\nGäste herzlich willkommen\n\n
 \n\nAushang20260430
END:VEVENT
BEGIN:VTIMEZONE
TZID:Europe/Berlin
X-LIC-LOCATION:Europe/Berlin
BEGIN:DAYLIGHT
DTSTART:20260329T030000
TZOFFSETFROM:+0100
TZOFFSETTO:+0200
TZNAME:CEST
END:DAYLIGHT
END:VTIMEZONE
END:VCALENDAR