BEGIN:VCALENDAR
VERSION:2.0
PRODID:-//wp-events-plugin.com//5.99912//EN
TZID:Europe/Berlin
X-WR-TIMEZONE:Europe/Berlin
BEGIN:VEVENT
UID:0-611@geislingensteige.albverein.eu
DTSTART;TZID=Europe/Berlin:20260613T090000
DTEND;TZID=Europe/Berlin:20260613T090000
DTSTAMP:20251116T093519Z
URL:https://geislingensteige.albverein.eu/events/tag-der-artenvielfalt-202
 6-artenvielfalt-am-haarberg-bnan/
SUMMARY:Tag der Artenvielfalt 2026 – Artenvielfalt am Haarberg (BNAN)
DESCRIPTION:Die Bezirksgruppe des BNAN (Bund Naturschutz Alb-Neckar e. V.) 
 läd ein zur naturkundlichen Exkursion. Schwerpunkt ist hier nicht die zur
 ückgelegte Strecke sondern die Besonderheiten unserer heimischen Flora un
 d Fauna.\n\nARTENVIELFALT AM HAARBERG\n\nEntdeckungs-Wanderung in abwechsl
 ungsreicher Landschaft: Wacholderheiden\, extensiv genutzte Wiesen\, Wäld
 er\n\nMit dem landesweiten Aktionstag möchte der LNV (Landesnaturschutzve
 rband Baden-Württemberg e.V. Bewusstsein für die heimischen Naturschätz
 e schaffen und die Themen Biodiversität und Artenkenntnis in den Mittelpu
 nkt des öffentlichen Interesses rücken. Am „Tag der Artenvielfalt“ d
 reht sich alles um die faszinierende Vielfalt der Arten im „Ländle“.\
 n\nWeglänge ca. 3 Kilometer auf geschottertem Wirtschaftsweg\, naturbelas
 senem Forstweg\, ca. 120 Höhenmeter Auf- und Abstieg\n\n\n\nTreffpunkt\n9
 :00 Uhr Parkplatz Berufsschulzentrum Rheinlandstr.\, Geislingen\,\n\n\n\n9
 :30 Uhr Wanderparkplatz Hexensattel zwischen Unterböhringen und Reichenba
 ch im Täle.\n\n\n\nDie Bildung von Fahrgemeinschaften ist gewünscht. Rü
 cksprache bei M. Kückenwaitz (Tel.: 07331/6 59 42)
END:VEVENT
BEGIN:VTIMEZONE
TZID:Europe/Berlin
X-LIC-LOCATION:Europe/Berlin
BEGIN:DAYLIGHT
DTSTART:20260329T030000
TZOFFSETFROM:+0100
TZOFFSETTO:+0200
TZNAME:CEST
END:DAYLIGHT
END:VTIMEZONE
END:VCALENDAR