BEGIN:VCALENDAR
VERSION:2.0
PRODID:-//wp-events-plugin.com//5.99912//EN
TZID:Europe/Berlin
X-WR-TIMEZONE:Europe/Berlin
BEGIN:VEVENT
UID:0-688@geislingensteige.albverein.eu
DTSTART;TZID=Europe/Berlin:20261108T000000
DTEND;TZID=Europe/Berlin:20261108T000000
DTSTAMP:20251225T102307Z
URL:https://geislingensteige.albverein.eu/events/um-das-taubried-bei-erbac
 h/
SUMMARY:Um das Taubried bei Erbach
DESCRIPTION:Details werden ca. 1-2 Wochen im Vorfeld hier bekannt gegeben.
END:VEVENT
BEGIN:VTIMEZONE
TZID:Europe/Berlin
X-LIC-LOCATION:Europe/Berlin
BEGIN:STANDARD
DTSTART:20261025T020000
TZOFFSETFROM:+0200
TZOFFSETTO:+0100
TZNAME:CET
END:STANDARD
END:VTIMEZONE
END:VCALENDAR