BEGIN:VCALENDAR
VERSION:2.0
PRODID:-//wp-events-plugin.com//5.99912//EN
TZID:Europe/Berlin
X-WR-TIMEZONE:Europe/Berlin
BEGIN:VEVENT
UID:0-613@geislingensteige.albverein.eu
DTSTART;TZID=Europe/Berlin:20261003T083000
DTEND;TZID=Europe/Berlin:20261003T120000
DTSTAMP:20251116T094042Z
URL:https://geislingensteige.albverein.eu/events/vogelzugbeobachtung-am-fr
 aenkel-3/
SUMMARY:Vogelzugbeobachtung am Fränkel
DESCRIPTION:\n\nDie Bezirksgruppe des BNAN (Bund Naturschutz Alb-Neckar e. 
 V.) läd ein zur naturkundlichen Exkursion. Schwerpunkt ist hier nicht die
  zurückgelegte Strecke sondern die Besonderheiten unserer heimischen Flor
 a und Fauna.\n\n&nbsp\;\n\nmit Markus Kückenwaitz\, Michael Nowak und Ebe
 rhard Wurster.\n\nWenn es Herbst wird\, beginnt sie wieder\, die „Flugsh
 ow“ der etwas anderen Art\, wie BirdLife Schweiz es sehr treffend formul
 ierte.\nTausende von Zugvögeln passieren bei uns den Albtrauf. Wie man si
 e erkennt\, beobachtet\, bestimmt uvm. wird von den Fachleuten erklärt.\n
 Kooperationsveranstaltung von BNAN und mehreren NABU Gruppen im Landkreis 
 Göppingen.\n\nZu dieser offenen Veranstaltung kann man im angegebenen Zei
 traum nach Lust und Laune kommen und auch wieder gehen.\n\n&nbsp\;\n\nTref
 fpunkt: Wanderparkplatz Fränkel\, Grünenberg\, dann Richtung „Aussicht
 spunkt“ laufen. Die Bildung von Fahrgemeinschaften ist gewünscht. Gerne
  können Sie den BNAN deswegen kontaktieren.\n\n\n&nbsp\;
LOCATION:Wanderparkplatz Fränkel\, Grünenberg\, Bad Überkingen\, Deutsch
 land
GEO:48.643702;9.748824
X-APPLE-STRUCTURED-LOCATION;VALUE=URI;X-ADDRESS=Grünenberg\, Bad Überking
 en\, Deutschland;X-APPLE-RADIUS=100;X-TITLE=Wanderparkplatz Fränkel:geo:4
 8.643702,9.748824
END:VEVENT
BEGIN:VTIMEZONE
TZID:Europe/Berlin
X-LIC-LOCATION:Europe/Berlin
BEGIN:DAYLIGHT
DTSTART:20260329T030000
TZOFFSETFROM:+0100
TZOFFSETTO:+0200
TZNAME:CEST
END:DAYLIGHT
END:VTIMEZONE
END:VCALENDAR