BEGIN:VCALENDAR
VERSION:2.0
PRODID:-//wp-events-plugin.com//5.99912//EN
TZID:Europe/Berlin
X-WR-TIMEZONE:Europe/Berlin
BEGIN:VEVENT
UID:0-657@geislingensteige.albverein.eu
DTSTART;TZID=Europe/Berlin:20261207T140000
DTEND;TZID=Europe/Berlin:20261207T160000
DTSTAMP:20251225T092103Z
URL:https://geislingensteige.albverein.eu/events/volks-und-wanderliedersin
 gen-3-2026-12-07/
SUMMARY:Volks- und Wanderliedersingen
DESCRIPTION:Im Veranstaltungsraum des Samariterstifts treffen sich am erste
 n Montag im Monat die Sangeslustigen zu einem gemütlichen Nachmittag. Der
  Termin wird im Lokalteil der GEISLINGER ZEITUNG bekannt gegeben.\n\nAnspr
 echpartnerin für nähere Informationen ist Heidi Busch.\n\nGäste sind je
 derzeit herzlich willkommen!
LOCATION:Samariterstift\, Schillerstraße 4\, Geislingen\, 73312\, Deutschl
 and
GEO:48.611587;9.843043
X-APPLE-STRUCTURED-LOCATION;VALUE=URI;X-ADDRESS=Schillerstraße 4\, Geislin
 gen\, 73312\, Deutschland;X-APPLE-RADIUS=100;X-TITLE=Samariterstift:geo:48
 .611587,9.843043
END:VEVENT
BEGIN:VTIMEZONE
TZID:Europe/Berlin
X-LIC-LOCATION:Europe/Berlin
BEGIN:STANDARD
DTSTART:20261025T020000
TZOFFSETFROM:+0200
TZOFFSETTO:+0100
TZNAME:CET
END:STANDARD
END:VTIMEZONE
END:VCALENDAR