BEGIN:VCALENDAR
VERSION:2.0
PRODID:-//wp-events-plugin.com//5.99912//EN
TZID:Europe/Berlin
X-WR-TIMEZONE:Europe/Berlin
BEGIN:VEVENT
UID:0-684@geislingensteige.albverein.eu
DTSTART;TZID=Europe/Berlin:20261007T000000
DTEND;TZID=Europe/Berlin:20261011T000000
DTSTAMP:20251225T101804Z
URL:https://geislingensteige.albverein.eu/events/wanderfahrt-nach-suedtiro
 l-3/
SUMMARY:Wanderfahrt nach Südtirol
DESCRIPTION:\n\n\nAnsprechpartnerin: A. Brenner\n\nDetails werden im Sommer
  via Post zugeschickt\n\n\n
END:VEVENT
BEGIN:VTIMEZONE
TZID:Europe/Berlin
X-LIC-LOCATION:Europe/Berlin
BEGIN:DAYLIGHT
DTSTART:20260329T030000
TZOFFSETFROM:+0100
TZOFFSETTO:+0200
TZNAME:CEST
END:DAYLIGHT
END:VTIMEZONE
END:VCALENDAR