BEGIN:VCALENDAR
VERSION:2.0
PRODID:-//wp-events-plugin.com//5.99912//EN
TZID:Europe/Berlin
X-WR-TIMEZONE:Europe/Berlin
BEGIN:VEVENT
UID:0-682@geislingensteige.albverein.eu
DTSTART;TZID=Europe/Berlin:20260924T000000
DTEND;TZID=Europe/Berlin:20260924T000000
DTSTAMP:20251225T101331Z
URL:https://geislingensteige.albverein.eu/events/weinbergwanderung-4-ender
 sbach-remstalkino-verschiedene-aussichtspunkte/
SUMMARY:Weinbergwanderung 4 – Endersbach – Remstalkino – verschiedene
  Aussichtspunkte
DESCRIPTION:Termin könnten noch verschoben werden\, da sich die Wanderung 
 nach den Öffnungszeiten der Besenwirtschaften richten muss\n\nDetails wer
 den ca. 1-2 Wochen im Vorfeld hier bekannt gegeben.
END:VEVENT
BEGIN:VTIMEZONE
TZID:Europe/Berlin
X-LIC-LOCATION:Europe/Berlin
BEGIN:DAYLIGHT
DTSTART:20260329T030000
TZOFFSETFROM:+0100
TZOFFSETTO:+0200
TZNAME:CEST
END:DAYLIGHT
END:VTIMEZONE
END:VCALENDAR